BEGIN:VCALENDAR
VERSION:2.0
PRODID:-//Plone.org//NONSGML plone.app.event//EN
X-WR-TIMEZONE:Asia/Tokyo
BEGIN:VEVENT
SUMMARY:JSST2017 - The 36th JSST Annual International Conference on Simula
 tion Technology
DTSTART;VALUE=DATE:20171025
DTEND;VALUE=DATE:20171028
DTSTAMP;VALUE=DATE-TIME:20260423T071312Z
UID:471d687b1fe04e3881847aaf804e438d-en@localhost:8080
CONTACT:http://jsst.jp/e/JSST2017/
CREATED;VALUE=DATE-TIME:20170907T103849Z
DESCRIPTION:基調講演: 藤堂「Recent Development of Markov Chain Mont
 e Carlo in Computational Physics」
LAST-MODIFIED;VALUE=DATE-TIME:20170908T030430Z
LOCATION:Tokyo Denki University\, Tokyo
URL:https://exa.phys.s.u-tokyo.ac.jp/en/media/events/jsst2017
END:VEVENT
END:VCALENDAR
