BEGIN:VCALENDAR
VERSION:2.0
PRODID:-//Plone.org//NONSGML plone.app.event//EN
X-WR-TIMEZONE:Asia/Tokyo
BEGIN:VEVENT
SUMMARY:物性研短期研究会「軟X線放射光科学のアップシ
 フト」
DTSTART;TZID=Asia/Tokyo;VALUE=DATE-TIME:20181130T130000
DTEND;TZID=Asia/Tokyo;VALUE=DATE-TIME:20181201T173000
DTSTAMP;VALUE=DATE-TIME:20260420T075441Z
UID:d06f299714d94e3daa8436f729f43db7@localhost:8080
CONTACT:http://www.issp.u-tokyo.ac.jp/labs/sor/workshop2018_11/index.html
CREATED;VALUE=DATE-TIME:20181214T085448Z
DESCRIPTION:藤堂「データ同化による結晶構造予測」
LAST-MODIFIED;VALUE=DATE-TIME:20181214T085455Z
URL:https://exa.phys.s.u-tokyo.ac.jp/ja/events/5hcbnf
END:VEVENT
BEGIN:VTIMEZONE
TZID:Asia/Tokyo
X-LIC-LOCATION:Asia/Tokyo
BEGIN:STANDARD
DTSTART;VALUE=DATE-TIME:19510909T000000
TZNAME:JST
TZOFFSETFROM:+1000
TZOFFSETTO:+0900
END:STANDARD
END:VTIMEZONE
END:VCALENDAR
