BEGIN:VCALENDAR
VERSION:2.0
PRODID:-//Plone.org//NONSGML plone.app.event//EN
X-WR-TIMEZONE:Asia/Tokyo
BEGIN:VEVENT
SUMMARY:平成29年度第1回計算科学フォーラム
DTSTART;TZID=Asia/Tokyo;VALUE=DATE-TIME:20171005T150000
DTEND;TZID=Asia/Tokyo;VALUE=DATE-TIME:20171005T173000
DTSTAMP;VALUE=DATE-TIME:20260420T173537Z
UID:46de6a1916e341d5845227478537c8a2@localhost:8080
CONTACT:http://www.zencom-inc.co.jp/hpcic/kkf_01/
CREATED;VALUE=DATE-TIME:20170914T075228Z
LAST-MODIFIED;VALUE=DATE-TIME:20170914T075236Z
LOCATION:東京大学本郷キャンパス/理化学研究所計算科学
 研究機構
URL:https://exa.phys.s.u-tokyo.ac.jp/ja/events/81w3d4
END:VEVENT
BEGIN:VTIMEZONE
TZID:Asia/Tokyo
X-LIC-LOCATION:Asia/Tokyo
BEGIN:STANDARD
DTSTART;VALUE=DATE-TIME:19510909T000000
TZNAME:JST
TZOFFSETFROM:+1000
TZOFFSETTO:+0900
END:STANDARD
END:VTIMEZONE
END:VCALENDAR
