BEGIN:VCALENDAR
VERSION:2.0
PRODID:-//Plone.org//NONSGML plone.app.event//EN
X-WR-TIMEZONE:Asia/Tokyo
BEGIN:VEVENT
SUMMARY:ポスト「京」重点課題（７） 「次世代の産業を
 支える新機能デバイス・ 高性能材料の創成(CDMSI）」第4
 回シンポジウム
DTSTART;VALUE=DATE:20181217
DTEND;VALUE=DATE:20181219
DTSTAMP;VALUE=DATE-TIME:20260424T060900Z
UID:8fd8f2dde89447ba9668c02006aa2e3d@localhost:8080
CONTACT:https://ccms.issp.u-tokyo.ac.jp/event/688
CREATED;VALUE=DATE-TIME:20181214T090017Z
DESCRIPTION:大久保「テンソルネットワーク法の開発とキ
 タエフスピン液体への適用」
LAST-MODIFIED;VALUE=DATE-TIME:20181214T090050Z
LOCATION:物性研究所
URL:https://exa.phys.s.u-tokyo.ac.jp/ja/events/83ptl5
END:VEVENT
END:VCALENDAR
