BEGIN:VCALENDAR
VERSION:2.0
PRODID:-//Plone.org//NONSGML plone.app.event//EN
X-WR-TIMEZONE:Asia/Tokyo
BEGIN:VEVENT
SUMMARY:CCMSハンズオン: 2017年度HΦ講習会
DTSTART;TZID=Asia/Tokyo;VALUE=DATE-TIME:20170629T130000
DTEND;TZID=Asia/Tokyo;VALUE=DATE-TIME:20170629T173000
DTSTAMP;VALUE=DATE-TIME:20260422T043627Z
UID:1ffa61f4887a4995b982f37ba6f9717c@localhost:8080
CONTACT:http://ccms.issp.u-tokyo.ac.jp/events/eventsfolder/handson_HPhi_20
 17
CREATED;VALUE=DATE-TIME:20170908T022542Z
DESCRIPTION:TIA“かけはし”連携講座
LAST-MODIFIED;VALUE=DATE-TIME:20170908T022545Z
LOCATION:東京大学柏の葉キャンパス駅前サテライト205号
 室
URL:https://exa.phys.s.u-tokyo.ac.jp/ja/events/irlpn9
END:VEVENT
BEGIN:VTIMEZONE
TZID:Asia/Tokyo
X-LIC-LOCATION:Asia/Tokyo
BEGIN:STANDARD
DTSTART;VALUE=DATE-TIME:19510909T000000
TZNAME:JST
TZOFFSETFROM:+1000
TZOFFSETTO:+0900
END:STANDARD
END:VTIMEZONE
END:VCALENDAR
