BEGIN:VCALENDAR
VERSION:2.0
PRODID:-//Plone.org//NONSGML plone.app.event//EN
X-WR-TIMEZONE:Asia/Tokyo
BEGIN:VEVENT
SUMMARY:物性研究所スパコン共同利用・CCMS合同研究会「
 計算物質科学の今と未来」
DTSTART;VALUE=DATE:20170403
DTEND;VALUE=DATE:20170405
DTSTAMP;VALUE=DATE-TIME:20260422T001104Z
UID:466edf35339a4a6d8ac67e1464ffeb3e@localhost:8080
CONTACT:http://ccms.issp.u-tokyo.ac.jp/events/eventsfolder/keisan17
CREATED;VALUE=DATE-TIME:20170908T022656Z
LAST-MODIFIED;VALUE=DATE-TIME:20170908T022828Z
LOCATION:物性研究所大講義室
URL:https://exa.phys.s.u-tokyo.ac.jp/ja/events/izdgwk
END:VEVENT
END:VCALENDAR
