BEGIN:VCALENDAR
VERSION:2.0
PRODID:-//Plone.org//NONSGML plone.app.event//EN
X-WR-TIMEZONE:Asia/Tokyo
BEGIN:VEVENT
SUMMARY:日本物理学会 第73回年次大会
DTSTART;VALUE=DATE:20180322
DTEND;VALUE=DATE:20180326
DTSTAMP;VALUE=DATE-TIME:20260423T225214Z
UID:2aa54f7f76a74ce393de168ac467fe2a@localhost:8080
CONTACT:http://www.jps.or.jp/activities/meetings/index.php
CREATED;VALUE=DATE-TIME:20180202T005921Z
LAST-MODIFIED;VALUE=DATE-TIME:20180202T010036Z
LOCATION:東京理科大学(野田キャンパス)
URL:https://exa.phys.s.u-tokyo.ac.jp/ja/events/tt4e9x
END:VEVENT
END:VCALENDAR
